BEGIN:VCALENDAR
VERSION:2.0
PRODID:-//HSMAI-AZ - ECPv6.15.20//NONSGML v1.0//EN
CALSCALE:GREGORIAN
METHOD:PUBLISH
X-ORIGINAL-URL:https://hsmai-az.org
X-WR-CALDESC:Events for HSMAI-AZ
REFRESH-INTERVAL;VALUE=DURATION:PT1H
X-Robots-Tag:noindex
X-PUBLISHED-TTL:PT1H
BEGIN:VTIMEZONE
TZID:America/Phoenix
BEGIN:STANDARD
TZOFFSETFROM:-0700
TZOFFSETTO:-0700
TZNAME:MST
DTSTART:20220101T000000
END:STANDARD
END:VTIMEZONE
BEGIN:VEVENT
DTSTART;TZID=America/Phoenix:20230720T160000
DTEND;TZID=America/Phoenix:20230720T180000
DTSTAMP:20260425T182401
CREATED:20230619T224812Z
LAST-MODIFIED:20230707T172955Z
UID:10000027-1689868800-1689876000@hsmai-az.org
SUMMARY:HSMAI AZ JULY MIXER
DESCRIPTION:“Cocktails\, Conversation & Connections” \nThursday\, July 20\, 20234:00-6:00pm \nHosted by  \n  \nWarehouse 215215 E. Grant Street\, Phoenix 85004 \nREGISTER NOW! \n  \nJuly is here and we are well into the Arizona summer. Cool off HSMAI-style by joining us for an informal gathering at Warehouse 215 – a unique and historic event space in downtown Phoenix established in 1918. Guests will be treated to scrumptious nibbles that will not disappoint\, sponsored by M Culinary Concepts and cocktails sponsored by Warehouse 215 \nAn added bonus…… We will have a very special guest with us. HSMAI CEO Bob Gilbert will be with us for an informal meet and greet. You won’t want to miss the fun and camaraderie! \n \nABOUT OUR HOST VENUE \n \nLocated in the heart of the Downtown Phoenix Warehouse District\, Warehouse215 is a unique and historic event space established in 1918 that includes 28 thousand square feet of interior and 9 thousand square feet of outdoor patio space. The expansive setting is perfect for private events and cocktail receptions\, featuring an iconic bow truss ceiling\, clerestory windows\, and a rustic\, semi-industrial design aesthetic. A series 6 liquor license allows for all types of gatherings\, from corporate events to casual get togethers\, of all sizes. More information is at: https://warehouse-215.com/
URL:https://hsmai-az.org/event/hsmai-az-july-mixer/
END:VEVENT
END:VCALENDAR