BEGIN:VCALENDAR
VERSION:2.0
PRODID:-//HSMAI-AZ - ECPv6.15.20//NONSGML v1.0//EN
CALSCALE:GREGORIAN
METHOD:PUBLISH
X-ORIGINAL-URL:https://hsmai-az.org
X-WR-CALDESC:Events for HSMAI-AZ
REFRESH-INTERVAL;VALUE=DURATION:PT1H
X-Robots-Tag:noindex
X-PUBLISHED-TTL:PT1H
BEGIN:VTIMEZONE
TZID:America/Phoenix
BEGIN:STANDARD
TZOFFSETFROM:-0700
TZOFFSETTO:-0700
TZNAME:MST
DTSTART:20220101T000000
END:STANDARD
END:VTIMEZONE
BEGIN:VEVENT
DTSTART;TZID=America/Phoenix:20230921T160000
DTEND;TZID=America/Phoenix:20230921T180000
DTSTAMP:20260425T145713
CREATED:20230818T192204Z
LAST-MODIFIED:20230828T160425Z
UID:10000029-1695312000-1695319200@hsmai-az.org
SUMMARY:September Mixer
DESCRIPTION:HSMAI Arizona Chapter presents \nHSMAI SEPTEMBER MIXER\n“Cocktails\, Conversation & Connections”\nThursday\, September 21st\n4:00-6:00pm \nHosted by our Gold Sponsor \n \nCanopy Tempe Downtown\n108 E. University Drive\nTempe\, AZ 85281\n4:00-6:00pm \nNeed a nice break coming off of a sizzling summer? \nCome join HSMAI members and guests on the rooftop for some mixing and\nmingling at this popular and newer venue in Downtown Tempe. \nRegistration includes nibbles\, one drink ticket and great camaraderie. We can’t wait to see you! \nREGISTER NOW! \n  \n \nABOUT OUR HOST VENUE \nCanopy by Hilton Tempe Downtown brings a whole new experience to Tempe\, AZ\, offering a full-service experience\, perfectly located in the vibrant and walkable University district. Adjacent to Arizona State University and 6 miles/10 minutes from Phoenix Sky Harbor International Airport\, we will bring you a true representation through the transformation of City and Desert with unique art\, design\, culture\, and exceptional culinary creations. \nMore information is HERE
URL:https://hsmai-az.org/event/september-mixer/
END:VEVENT
END:VCALENDAR