BEGIN:VCALENDAR
VERSION:2.0
PRODID:-//HSMAI-AZ - ECPv6.15.20//NONSGML v1.0//EN
CALSCALE:GREGORIAN
METHOD:PUBLISH
X-WR-CALNAME:HSMAI-AZ
X-ORIGINAL-URL:https://hsmai-az.org
X-WR-CALDESC:Events for HSMAI-AZ
REFRESH-INTERVAL;VALUE=DURATION:PT1H
X-Robots-Tag:noindex
X-PUBLISHED-TTL:PT1H
BEGIN:VTIMEZONE
TZID:America/Phoenix
BEGIN:STANDARD
TZOFFSETFROM:-0700
TZOFFSETTO:-0700
TZNAME:MST
DTSTART:20220101T000000
END:STANDARD
END:VTIMEZONE
BEGIN:VEVENT
DTSTART;TZID=America/Phoenix:20231116T160000
DTEND;TZID=America/Phoenix:20231116T183000
DTSTAMP:20260425T115928
CREATED:20231003T203011Z
LAST-MODIFIED:20231113T170701Z
UID:10000031-1700150400-1700159400@hsmai-az.org
SUMMARY:Arizona Event Trends and Tricks
DESCRIPTION:HSMAI Arizona Chapter presents. \nHSMAI NOVEMBER EDUCATION PROGRAM & MIXER \nARIZONA EVENT TRENDS AND TRICKS\nPresented by a Panel of ExpertsModerated by HSMAI Past President Rochelle Barton \nThursday\, November 16\, 20234:00-6:30pm \nHosted byFort McDowell Adventures148 N. Hiawatha Hood RoadFort McDowell\, AZ 85264 \n4:00pm-4:30pm … Registration\, Cocktails (no-host bar) and Laser Skeet Shooting \n4:30pm-4:45pm … President’s Welcome & Announcements \n4:45pm-5:45pm … Education Program \n5:25pm … Sunset \n5:45pm-6:15pm … Networking with Appetizers and Cocktails (no-host bar) \n6:15-6:30pm … Raffle\, Drawings and\, Conclusion \nJoin us and learn from our panel of professionals on how to create an unforgettable event that is on trend and budget! \n \nRegistration will also include nibbles from Bobby Q’s and a Prickly Pear or Jalapeno Margarita. \nCowboy Game Sponsor \n \nClick HERE for directions \nPlenty of self-parking available. \n			\n						Register Now!\n					 \nOur panelists include: \n \nBrandi Henggeler\, Senior Account Executive ARIZONAAt 360 Destination Group\, we do more than just event management. We take a stuffy corporate meeting and make it feel like the only event in town. Not only do we personally handle all logistics and organization\, but we also seamlessly blend that with curated destination event concepts that engage your clients and employees. A VIP Super Bowl experience\, a carnival-themed seminar\, a Latin nightclub reception – we’ve done them all. At 360DG\, “Built Around You” isn’t just our tagline – your vision becomes our blueprint. \n360 Destination Group – Arizona is a national DMC with a local/hometown presence. Our office represents and sells/services programs for the entire state of Arizona\, including (but not limited to) Phoenix\, Scottsdale\, Tucson\, and Sedona\, and we have offices in 17 total sister destinations across the United States! \nBrandi Henggeler is the 360 Destination Group – Arizona Team’s Senior Account Executive. Brandi joined the team in 2022 and has been working to grow hotel engagement and drive client satisfaction ever since. This Arizona native is proud to call the Sonoran Desert her home and brings over 13 years of event management and hospitality experience\, having worked in luxury hotels\, venues and unique spaces. In her free time\, Brandi enjoys spending time with her husband and two little ones\, doing yoga\, planning kid’s parties\, and boating at one of Arizona’s many beautiful lakes! \nTaylor Abbate\, CMP\, DES\, HMCC Director of National SalesCSI DMC is an award-winning\, strategic partner that clients continue to choose to deliver events in over 65 destinations nationally and globally with CSI International. Since 1987\, CSI DMC has transformed events into exceptional experiences for organizations worldwide. Driven by a team of talented designers\, destination experts\, and event management professionals\, they support their clients’ success with boundless creativity\, deep destination knowledge\, extensive local relationships\, global resources\, and proven logistical expertise. \nTaylor Abbate\, who is based locally here in Scottsdale\, serves as the as Director of National Sales. She has expertise in events and destination management\, client relations\, and operations which allows her to relate and build trust with her clients. Taylor is a University of Missouri-Columbia alum\, a PCMA “20 in Their Twenties” Class of 2021 award recipient and serves as an active member of Professional Convention Management Association (PCMA) on a chapter and national level. In her free time\, she enjoys cheering on the Kansas City Chiefs\, hiking\, and exploring all that the Valley of the Sun has to offer! \n \nBrianna Moody\, General ManagerThrough our decades of experience\, proven processes\, and creative solutions\, Hello! Arizona Destination Management builds relationships that inspire confidence and encourage fun! The result is a successfully managed live event experience that gives everyone goosebumps! As a native to Arizona\, Brianna has always had a love for the desert. Brianna graduated from Arizona State University with a B.A. in Tourism Development and Management. She brings more than 17 years of industry experience to the General Manager role at Hello! Arizona Destination Management. and has a thorough understanding of the event management process from start to finish. She has been in the DMC business since 2007\, beginning with Hello! Arizona in 2011 as a Sales Account Executive. Through hard work and dedication\, Brianna earned herself a Top Producer role for 8 of her years in Sales\, including two as company-wise Top Producer for Hello!. Compassionate and determined\, Brianna was promoted to Director of Sales overseeing the same team before she assumed the role of General Manager. \n \nMonique Rife\, OwnerMonique Rife\, founder and owner of Bespoke Arizona DMC\, boasts 25 years of hospitality experience including 8 years with DMC firms such as Southwest Conference Planners and Arizona Creative Events\, and pivotal roles at renowned companies like NBC Universal\, AEG\, Wolfgang Puck and Legends Hospitality for the Dallas Cowboys. In 2023\, she realized her dream by founding Bespoke Arizona DMC\, committed to delivering world-class Arizona experiences through exceptional events\, surpassing client’s expectations and crafting unforgettable memories. Anchored by her extensive background and a relentless focus on unparalleled customer service\, Monique and her dedicated team at Bespoke\, are poised to continue shaping the hospitality landscape\, providing clients with the highest of standards for all services offered. \n \n \nFor over 30 years Fort McDowell Adventures has entertained guests from around the globe. We specialize in private group events for corporate incentive dinners\, product launches\, sales meetings\, and outdoor team building activities\, while letting your imagination take flight! \n			\n						Register Now!
URL:https://hsmai-az.org/event/arizona-event-trends-and-tricks/
END:VEVENT
END:VCALENDAR