BEGIN:VCALENDAR
VERSION:2.0
PRODID:-//HSMAI-AZ - ECPv6.15.20//NONSGML v1.0//EN
CALSCALE:GREGORIAN
METHOD:PUBLISH
X-ORIGINAL-URL:https://hsmai-az.org
X-WR-CALDESC:Events for HSMAI-AZ
REFRESH-INTERVAL;VALUE=DURATION:PT1H
X-Robots-Tag:noindex
X-PUBLISHED-TTL:PT1H
BEGIN:VTIMEZONE
TZID:America/Phoenix
BEGIN:STANDARD
TZOFFSETFROM:-0700
TZOFFSETTO:-0700
TZNAME:MST
DTSTART:20240101T000000
END:STANDARD
END:VTIMEZONE
BEGIN:VEVENT
DTSTART;TZID=America/Phoenix:20250918T110000
DTEND;TZID=America/Phoenix:20250918T133000
DTSTAMP:20260423T215425
CREATED:20250812T173326Z
LAST-MODIFIED:20250916T193705Z
UID:10000046-1758193200-1758202200@hsmai-az.org
SUMMARY:September Luncheon Program and Mixer
DESCRIPTION:HSMAI Arizona Chapter presents…..\nA Special Education Program and Mixer for Meeting/Hospitality Industry Professionals and Students\nSponsored by\n\n \n“Beyond Tomorrow – Thriving in the Workplace in the Future”\n\nPresented by Summer Jelinek\nLeadership Speaker\, Trainer\, Author and Coach\nThursday\, September 18\, 2025\n11:00am to 1:30pm \n  \nHosted by\n\n \n  \nREGISTER NOW!\n  \nSheraton Downtown Phoenix\n340 North 3rd Street\, Phoenix\, 85004 \n What do the internet\, AI and the lightbulb have in common? Each has revolutionized the workforce. Sometimes it can feel like the workplace is completely unrecognizable from when the Leaders of today entered the workforce. Technology is rolling out faster than we can keep up with it\, employee expectations are escalating\, and company standards are soaring. How are some leaders thriving while others are barely surviving? Is it magic? \nDrawing from decades of diverse experience with renowned organizations like Walt Disney World\, the Disney Institute\, H-E-B\, Central Market\, and even a dude ranch\, Summer will provide invaluable insights into the transformative power of adaptive leadership. Gain a fresh perspective on outdated workplace norms and unearth strategies to lead with confidence and innovation. Don’t miss this opportunity to embark on a journey Beyond Tomorrow and redefine success in the ever-shifting landscape of the modern workplace. \nBy the end of this engaging and informative session\, you will: \n\nExamine the modern interpretation of work and its profound implications for effective teamwork and interpersonal interactions\nExplore the dynamics of the three distinct work environments and arm yourself with actionable leadership techniques to thrive in each setting\nUse effective strategies and resources to build resilience and stay energized through the change\n\nAGENDA: \n11:00am to 1:30pm\nRegistration\, Networking\, Charity Collection\, Luncheon Program and Raffle Drawings \nPARKING: \nComplimentary Self-Parking Available / Discounted Valet Parking at the Sheraton is $15 \n\n\nCHARITY COLLECTION \nIn Conjunction with our event\, we will be collecting needed items for our 2025 Charity of the Year – Harvest Compassion Center. The item of the month for September is applesauce. \nHarvest Compassion Center was launched in 2011 to immediately serve the needs of children and their families through our ‘Food Banking Reimagined’ model. Our goals are simple: reduce food insecurity for children and families living in poverty\, improve their overall quality of life in the home\, and improve their school readiness and academic achievements \nHCC embodies a commitment to providing clients with an exceptional shopping experience\, emphasizing authentic connections\, and cultivating genuine client relationships\, while also being dedicated to sharing referral services\, creating lasting\, impactful change! For more information: https://harvestcompassioncenter.org/ \n\n\nTHANK YOU TO OUR SPONSORS:\n \n \nABOUT OUR KEYNOTE SPONSOR \n\nVisit Phoenix is a non-profit organization that promotes the Greater Phoenix community to a global audience of travelers and books conventions into the Phoenix Convention Center and area hotels and resorts. Visit Phoenix cultivates and maintains relationships with convention and meeting planners\, journalists and influencers\, travel agents and tour operators. \n\nWe produce marketing and brand campaigns promoting leisure travel and meetings\, coordinate site visits\, conduct media tours and maintain the official tourism website for Greater Phoenix. In partnership with our nearly 900 member businesses\, Visit Phoenix brings business to Greater Phoenix that would not otherwise come—from leisure visitors to group meetings to popular sports events. Through this\, Greater Phoenix can compete in today’s globalized\, networked world for its share of the world’s consumers\, businesses\, investment\, capital\, respect\, and attention. More information at: visitphoenix.com.\n  \nABOUT SUMMER JELINEK \nSummer helps businesses and organizations control their chaos through providing inspiring keynotes\, customized training and leadership coaching. \nWith over 20 years leadership experience with companies such as Walt Disney World\, the Disney Institute\, H-E-B/Central Market and even a dude ranch\, Summer has helped Leaders at multiple Fortune 500 companies discover their unique Magic and translate that magic into specific and measurable results. \nSummer found her love of training and leadership while with Disney through the Disney Institute. Since her first time seeing the light bulb go off for her audience\, she has been honing her craft to continue spreading the pixie dust and lighting the bulbs. \nWhat Else? \nSummer completed her MBA with a Leadership Certification at the HR.Com #1 ranked master’s program from the Crummer Graduate School of Business at Rollins College in Winter Park\, Florida. \nSummer is certified in the True Colors Personality Assessment\, Lego Serious Play\, Workplace Big 5\, FIRO-B\, Change Style Indicator\, Influence Style Indicator\, CoreClarity and more. \nIn her spare time\, Summer is studying for her Ph.D.\, loves going to the movies by herself\, geeking out over Disney and coming up with silly ways to make her 8 year old daughter giggle. \nREGISTER NOW!\n  \nABOUT OUR HOST VENUE: \n    \nExperience something extraordinary at Sheraton Phoenix Downtown\, where reimagined spaces and thoughtful amenities come together to provide an elevated stay in the heart of Phoenix. Whether you’re here to work\, gather\, or relax\, our Phoenix hotel offers the perfect blend of comfort and style. Enjoy beautifully designed guestrooms and suites\, inviting communal areas\, exceptional on-site dining\, a sun-kissed terrace pool\, and a state-of-the-art fitness center. With over 110\,000 square feet of versatile event space\, personalized meeting services\, and unparalleled event expertise\, our business hotel in Phoenix is the ideal destination for gatherings of any size. Conveniently located near all of downtown Phoenix’s top attractions\, Sheraton Phoenix Downtown is Arizona’s largest hotel\, ready to make your stay unforgettable. We can’t wait to welcome you and ensure that you feel right at home. More information is at: https://www.marriott.com/en-us/hotels/phxgp-sheraton-phoenix-downtown/overview/
URL:https://hsmai-az.org/event/hsmai-september-luncheon-program-and-mixer/
LOCATION:Sheraton Downtown Phoenix\, 340 N 3rd St\, Phoenix\, AZ\, 85004\, United States
END:VEVENT
END:VCALENDAR