BEGIN:VCALENDAR
VERSION:2.0
PRODID:-//HSMAI-AZ - ECPv6.15.20//NONSGML v1.0//EN
CALSCALE:GREGORIAN
METHOD:PUBLISH
X-ORIGINAL-URL:https://hsmai-az.org
X-WR-CALDESC:Events for HSMAI-AZ
REFRESH-INTERVAL;VALUE=DURATION:PT1H
X-Robots-Tag:noindex
X-PUBLISHED-TTL:PT1H
BEGIN:VTIMEZONE
TZID:America/Phoenix
BEGIN:STANDARD
TZOFFSETFROM:-0700
TZOFFSETTO:-0700
TZNAME:MST
DTSTART:20250101T000000
END:STANDARD
END:VTIMEZONE
BEGIN:VEVENT
DTSTART;TZID=America/Phoenix:20260529T080000
DTEND;TZID=America/Phoenix:20260529T150000
DTSTAMP:20260423T133425
CREATED:20260202T221748Z
LAST-MODIFIED:20260414T165953Z
UID:10000052-1780041600-1780066800@hsmai-az.org
SUMMARY:HSMAI AZ's 15th Annual Hospitali"Tee" Golf and Networking Event
DESCRIPTION:Hospitality Sales & Marketing Association International – Arizona Chapter\nPresents\n \nHSMAI AZ’s 15th Annual\nHospitali”Tee” Golf and Networking Event\n Friday\, May 29\, 2026 • 8:00 a.m. Shotgun Start\n COURSE SPONSOR \n \n451 N. Old Litchfield Road • Litchfield Park\,  85340\n18 holes of Spectacular Golf * Swag Bags for Golfers * Great Raffle Prizes * Awards Luncheon and More! \n\nREGISTER NOW!\nBE A SPONSOR or Purchase a LUNCHEON VENDOR TABLE!\nDONATE A RAFFLE/SWAG BAG ITEM!\nTO LEARN ABOUT ADDITIONAL RAFFLE PRIZES AND SPONSORSHIPS OFFERED BY HSMAI AND OUR SPONSOR\, INFLUENCE THE CAUSE\, GO HERE. \nExperience the Premier HSMAI Arizona Golf Classic \n\nJoin industry leaders for the 15th Annual Arizona Chapter HSMAI Golf Classic at the renowned Wigwam Resort’s Blue Course — a Robert Trent Jones design blending challenge and elegance. Enjoy premier networking\, exceptional golf\, and a vibrant awards luncheon in a stunning setting. \nWhether you’re a dedicated golfer or prefer to relax and connect\, your participation supports HSMAI Arizona’s commitment to professional development\, scholarships\, and our 2026 Charity of the Year\, Harvest Compassion Centers. \nGather your dream team — customers\, colleagues\, and friends — who are ready to trade their laptops for golf clubs and their inboxes for birdies. Treat them to a day of sunshine\, laughter\, and friendly competition on this gorgeous course. Whether you’re chasing a hole-in-one or just soaking up the good vibes\, this is your chance to turn a simple day off into an epic experience of camaraderie\, fun\, and unforgettable moments. \nMake a difference. Enjoy the day. Register now to secure your place at this signature event. \nNot a golfer? There’s plenty for you to enjoy! Try something new at our golf clinic led by a Wigwam pro\, indulge in a luxurious spa treatment\, explore our vibrant vendor showcase\, or simply relax in the hospitality tent with a refreshing beverage and live entertainment. No matter your interests\, you’ll find something to make your day memorable. \nOn behalf of our Golf Tournament Committee and our Board of Directors\, we thank you in advance for your participation and support! \n\nThe Golf Outing includes:\nGreen fees \nCart Fees \nUnlimited Range Balls \nCurbside Bag Service \nFully Equipped Golf Carts with Cooler\, and Tees \nPersonalized Scorecards\, Cart Signs and Rules Sheet \nProfessional Tournament Scoring \nTwo Full Beverage Carts on Course \nHospitality Beer tent on course with entertainment \nFUN “stuff” and games provided by our sponsors at their holes \nBackyard BBQ Buffet Luncheon \nAwards for 1st\, 2nd and 3rd place\, plus skill holes \nSwag Bag \nCash Bar at Lunch \nAGENDA:\n7:00-8:00 a.m. …. Registration\, Practice and Charity Collection \n8:00 a.m. … Shotgun Start \n10:30 a.m. … Golf Clinic \n11:00 a.m. Vendor Tables and Hospitality Tent with Music open for Luncheon Only Guests \n12:00 p.m. … Luncheon\, Awards and Raffles \n \nFor our luncheon guests\, come early and take advantage of the fabulous services offered by LeMonds Aveda Salon & Spa at The Wigwam.  They are offering a 10% discount to our guests. Please book HERE and be sure to mention that you are with the HSMAI Golf Tournament. Not included are Hair\, Nails or Retail Products. \nHOTEL ACCOMMODATIONS:\nThe Wigwam is offering a very special rate of $159/night for a Garden Room or Terrace Suite or an Oasis Suite for $189 for the nights of 5/28 and 5/29. Please go HERE to make your reservations. A reduced resort charge of $3.00 (from $42) will be applied to all rooms per day. \nCHARITY COLLECTION:\nWe will be having a charitable collection of needed items for our 2026 Charity of the Year — Harvest Compassion Centers.\nFor May\, their item donation of the month is noodles (not spaghetti). \nSPONSORS:\nHOST COURSE\n\n\nPARTNER SPONSOR\n\n \n  \nHOSPITALITY TENT SPONSOR \n \n  \nEAGLE SPONSOR \n\n \n  \n\nPHOTOGRAPHY SPONSOR \n \nSIGNAGE SPONSOR \n \n  \nENTERTAINMENT SPONSOR \n \nSWAG BAG SPONSOR \n \n  \nSWAG DONORS \n\nFun Coach Team Workouts/Teamplay USA\nMcLellan & Associates\nNational Electrical Contractors Association – Arizona (NECA)\nStellar Adventures\nVisit Tucson\n\nWilliams & Associates\n  \nLUNCHEON VENDORS \n\n\n\nABOUT OUR CHARITY:\n \n  \nThe Harvest Compassion Center\, HSMAI’s 2026 Charity of the Year\,  was launched in 2011 to immediately serve the needs of children and their families through their ‘Food Banking Reimagined’ model. Their goals are simple: reduce food insecurity for children and families living in poverty\, improve their overall quality of life in the home\, and improve their school readiness and academic achievements. ‘Food Banking Reimagined’ merges mini grocery stores\, high-end clothing boutiques\, and kids’ play corners\, all into one. One in five children in Maricopa County are going to bed hungry. HCC’s North Phoenix/Scottsdale\, West Phoenix\, Maryvale and Tolleson locations are feeding over 21\,000 families annually\, including over 65\,000 local children. Their centers are located in generationally poor neighborhoods\, where median incomes are below state poverty levels\, 98% receive SNAP benefits\, and 99% receive free school meals. HCC embodies a commitment to providing clients with an exceptional shopping experience\, emphasizing authentic connections\, and cultivating genuine client relationships\, while also being dedicated to sharing referral services\, creating lasting\, impactful change! More information is at: https://harvestcompassioncenter.org/ \n  \n    \nABOUT OUR HOST\nMake your own history at The Wigwam\, a beloved Arizona resort since 1929. Whether you’re traveling for business\, romance\, relaxation\, or family fun\, our 440 acres of lush landscapes\, elegantly crafted adobe and timber suites\, and enticing hotel amenities provide the extravagant retreat you so desire. From green golf courses to outdoor tennis courts\, from relaxing spa facilities to signature dining spots\, there are so many things to love about The Wigwam. Discover a world of your own at one of the top Arizona luxury resorts\, where the opportunities to explore are endless. \nThe Wigwam is equipped with a century’s worth of experience in providing the best luxury and comfort to travelers worldwide. Originally established as a small lodge during the rise of cotton-ranching businesses in the early 1900s\, the resort currently houses 331 elegant rooms and suites\, Championship golf courses\, three swimming pools\, and family-friendly recreation centers. More information here: https://www.wigwamarizona.com/ \n\nClick for downloadable forms\nGolfer Registration Form \nGolf Raffle/Donation Form \nGolf Sponsorship/Vendor Table Form
URL:https://hsmai-az.org/event/hsmai-azs-15th-annual-hospitalitee-golf-and-networking-event/
END:VEVENT
BEGIN:VEVENT
DTSTART;TZID=America/Phoenix:20260601T080000
DTEND;TZID=America/Phoenix:20260601T170000
DTSTAMP:20260423T133425
CREATED:20260213T170946Z
LAST-MODIFIED:20260213T170946Z
UID:10000064-1780300800-1780333200@hsmai-az.org
SUMMARY:June HSMAI/Visit Phoenix Education and Mixer (date TBD)
DESCRIPTION:HSMAI/Visit Phoenix Education and Mixer\nDate and Location TBD
URL:https://hsmai-az.org/event/june-hsmai-visit-phoenix-education-and-mixer-date-tbd/
END:VEVENT
BEGIN:VEVENT
DTSTART;VALUE=DATE:20260616
DTEND;VALUE=DATE:20260618
DTSTAMP:20260423T133425
CREATED:20260212T233852Z
LAST-MODIFIED:20260212T233852Z
UID:10000059-1781568000-1781740799@hsmai-az.org
SUMMARY:HSMAI Commercial Strategy Conference
DESCRIPTION:San Antonio\, Texas \nMore details as they become available
URL:https://hsmai-az.org/event/hsmai-commercial-strategy-conference/
END:VEVENT
BEGIN:VEVENT
DTSTART;TZID=America/Phoenix:20260701T080000
DTEND;TZID=America/Phoenix:20260701T170000
DTSTAMP:20260423T133425
CREATED:20260213T171054Z
LAST-MODIFIED:20260213T171054Z
UID:10000065-1782892800-1782925200@hsmai-az.org
SUMMARY:July	Community Outreach Event: Annual Santa Summer Safety Splash (date TBD)
DESCRIPTION:July Community Outreach Event:\nAnnual Santa Summer Safety Splash\nDate and Location TBD
URL:https://hsmai-az.org/event/julycommunity-outreach-event-annual-santa-summer-safety-splash-date-tbd/
END:VEVENT
BEGIN:VEVENT
DTSTART;TZID=America/Phoenix:20260717T180000
DTEND;TZID=America/Phoenix:20260717T220000
DTSTAMP:20260423T133425
CREATED:20260212T234042Z
LAST-MODIFIED:20260302T213529Z
UID:10000060-1784311200-1784325600@hsmai-az.org
SUMMARY:47th Annual Auction and Fundraiser Celebrating the "Year of the Horse"
DESCRIPTION:47th Annual Auction and Fundraiser\nCelebrating the “Year of the Horse”\nMore details as they become available
URL:https://hsmai-az.org/event/47th-annual-auction-and-fundraiser-celebrating-the-year-of-the-horse/
END:VEVENT
BEGIN:VEVENT
DTSTART;TZID=America/Phoenix:20260902T080000
DTEND;TZID=America/Phoenix:20260902T170000
DTSTAMP:20260423T133425
CREATED:20260213T171244Z
LAST-MODIFIED:20260213T171244Z
UID:10000066-1788336000-1788368400@hsmai-az.org
SUMMARY:September Education Program (Student Focus) (date TBD)
DESCRIPTION:Education Program (Student Focus)\nDate and Location TBD
URL:https://hsmai-az.org/event/september-education-program-student-focus-date-tbd/
END:VEVENT
BEGIN:VEVENT
DTSTART;TZID=America/Phoenix:20261001T080000
DTEND;TZID=America/Phoenix:20261001T170000
DTSTAMP:20260423T133425
CREATED:20260213T171659Z
LAST-MODIFIED:20260213T171659Z
UID:10000069-1790841600-1790874000@hsmai-az.org
SUMMARY:Community Outreach Event: Haunted Cabanas (date TBD)
DESCRIPTION:Community Outreach Event:\nHaunted Cabanas\nDate and Location TBD
URL:https://hsmai-az.org/event/community-outreach-event-haunted-cabanas-date-tbd/
END:VEVENT
BEGIN:VEVENT
DTSTART;TZID=America/Phoenix:20261102T080000
DTEND;TZID=America/Phoenix:20261102T170000
DTSTAMP:20260423T133425
CREATED:20260213T171353Z
LAST-MODIFIED:20260213T171426Z
UID:10000067-1793606400-1793638800@hsmai-az.org
SUMMARY:November Education Program (date TBD)
DESCRIPTION:November Education Program\nDate and Location TBD
URL:https://hsmai-az.org/event/november-education-program-date-tbd/
END:VEVENT
BEGIN:VEVENT
DTSTART;VALUE=DATE:20261114
DTEND;VALUE=DATE:20261115
DTSTAMP:20260423T133425
CREATED:20260212T234220Z
LAST-MODIFIED:20260212T234220Z
UID:10000061-1794614400-1794700799@hsmai-az.org
SUMMARY:HSMAI Sales Leader Forum
DESCRIPTION:HSMAI Sales Leader Forum\nChicago\, IL \nMore details as they become available
URL:https://hsmai-az.org/event/hsmai-sales-leader-forum/
END:VEVENT
BEGIN:VEVENT
DTSTART;TZID=America/Phoenix:20261201T080000
DTEND;TZID=America/Phoenix:20261201T170000
DTSTAMP:20260423T133425
CREATED:20260213T171538Z
LAST-MODIFIED:20260213T171538Z
UID:10000068-1796112000-1796144400@hsmai-az.org
SUMMARY:Chapter Annual Leadership Retreat (date TBD)
DESCRIPTION:Chapter Annual Leadership Retreat\nDate and Location TBD
URL:https://hsmai-az.org/event/chapter-annual-leadership-retreat-date-tbd/
END:VEVENT
BEGIN:VEVENT
DTSTART;TZID=America/Phoenix:20261207T150000
DTEND;TZID=America/Phoenix:20261207T180000
DTSTAMP:20260423T133425
CREATED:20260212T234418Z
LAST-MODIFIED:20260212T234418Z
UID:10000062-1796655600-1796666400@hsmai-az.org
SUMMARY:Community Outreach Event: Holiday Caroling Event
DESCRIPTION:Community Outreach Event:\nHoliday Caroling Event\nScottsdale Senior Living Homes \nMore details as they become available
URL:https://hsmai-az.org/event/community-outreach-event-holiday-caroling-event/
END:VEVENT
END:VCALENDAR