BEGIN:VCALENDAR
VERSION:2.0
PRODID:-//HSMAI-AZ - ECPv6.15.20//NONSGML v1.0//EN
CALSCALE:GREGORIAN
METHOD:PUBLISH
X-WR-CALNAME:HSMAI-AZ
X-ORIGINAL-URL:https://hsmai-az.org
X-WR-CALDESC:Events for HSMAI-AZ
REFRESH-INTERVAL;VALUE=DURATION:PT1H
X-Robots-Tag:noindex
X-PUBLISHED-TTL:PT1H
BEGIN:VTIMEZONE
TZID:America/Phoenix
BEGIN:STANDARD
TZOFFSETFROM:-0700
TZOFFSETTO:-0700
TZNAME:MST
DTSTART:20190101T000000
END:STANDARD
END:VTIMEZONE
BEGIN:VEVENT
DTSTART;TZID=America/Phoenix:20201204T083000
DTEND;TZID=America/Phoenix:20201204T130000
DTSTAMP:20260425T053117
CREATED:20201027T212443Z
LAST-MODIFIED:20210629T055454Z
UID:10000006-1607070600-1607086800@hsmai-az.org
SUMMARY:Annual Holiday Caroling
DESCRIPTION:MONDAY\, DECEMBER 14\, 2021\nAnnual Holiday Caroling\, Scottsdale\, AZ\, 3:30-8:00pm. \n3:30pm – Meet at Scottsdale Beer Company – 8608 E Shea Blvd\, Scottsdale\, AZ 85260\n4:00pm – Bus leaves promptly to visit four convalescent homes\n7:30pm to 8:00pm – Return to Scottsdale Beer Company \nSongbooks provided. Beverages will be served on board. We encourage everyone to dress in their most festive attire! Kids are welcome… \nAdditional Projects\nThe committee is currently working on confirming a few other projects. We will keep you posted on the dates and projects as they come in.
URL:https://hsmai-az.org/event/annual-holiday-caroling/
LOCATION:AZ
CATEGORIES:Community
ATTACH;FMTTYPE=image/jpeg:https://hsmai-az.org/wp-content/uploads/2020/07/christmas-caroling.jpg
END:VEVENT
BEGIN:VEVENT
DTSTART;TZID=America/Phoenix:20201119T150000
DTEND;TZID=America/Phoenix:20201119T180000
DTSTAMP:20260425T053117
CREATED:20201027T205918Z
LAST-MODIFIED:20201027T220153Z
UID:10000005-1605798000-1605808800@hsmai-az.org
SUMMARY:Chippin' Dippin' and Sippin'
DESCRIPTION:A Complimentary Virtual Happy Hour and Mixer\nHosted by the folks at Aunt Chilada’s Squaw Peak\nThursday\, November 19\, 2020\n4:00 p.m. to 7:00 p.m.\nJoin us as HSMAI AZ presents our complimentary Chippin’ Dippin’ & Sippin’ Virtual Kitchen Series featuring local restaurant\, Aunt Chilada’s Squaw Peak. The last time we all got to meet face to face was at Aunt Chilada’s back in February at our networking event. We wanted to keep the party going by bringing you another taste of their signature food and drink! \n\nThey will host a fun evening with Chef Tiffany\, showing you how to prepare one of their most popular and yummiest dishes on the menu\, Shrimp Stuffed Pineapple. Plus\, they’ll also share their recipe to their Double Barrel Signature Margarita with fresh lime juice! This will be a fun evening to let loose and cook dinner for your house (virtually) with HSMAI. We’ll have great raffle drawings and conversation. All you have to do is grab the ingredients and tune in virtually from your kitchen on November 19th and we’ll show you the rest! \n \nThis is an event you don’t want to miss! \nRaffle Prizes \nGrand Raffle Prize \n  \n\nKate Spade Picnic Pineapple Crossbody purse\, with a $50 gift card for Aunt Chilada’s\, donated by the next great event ($300 value) \nRegular Raffle Prizes:\nA full list to come
URL:https://hsmai-az.org/event/chippin-dippin-and-sippin/
LOCATION:Aunt Chilada’s – This event will be via Zoom\, 7330 N Dreamy Draw Dr\, Phoenix\, AZ\, 85020\, United States
CATEGORIES:Networking
ATTACH;FMTTYPE=image/jpeg:https://hsmai-az.org/wp-content/uploads/2020/10/chippin.jpg
ORGANIZER;CN="HSMAI-AZ":MAILTO:info@hsmai-az.org
END:VEVENT
END:VCALENDAR