BEGIN:VCALENDAR
VERSION:2.0
PRODID:-//HSMAI-AZ - ECPv6.15.20//NONSGML v1.0//EN
CALSCALE:GREGORIAN
METHOD:PUBLISH
X-ORIGINAL-URL:https://hsmai-az.org
X-WR-CALDESC:Events for HSMAI-AZ
REFRESH-INTERVAL;VALUE=DURATION:PT1H
X-Robots-Tag:noindex
X-PUBLISHED-TTL:PT1H
BEGIN:VTIMEZONE
TZID:America/Phoenix
BEGIN:STANDARD
TZOFFSETFROM:-0700
TZOFFSETTO:-0700
TZNAME:MST
DTSTART:20220101T000000
END:STANDARD
END:VTIMEZONE
BEGIN:VEVENT
DTSTART;TZID=America/Phoenix:20230522T100000
DTEND;TZID=America/Phoenix:20230522T170000
DTSTAMP:20260425T202035
CREATED:20230106T152822Z
LAST-MODIFIED:20230515T225523Z
UID:10000024-1684749600-1684774800@hsmai-az.org
SUMMARY:MPI/HSMAI HospitaliTee Golf Tournament
DESCRIPTION:Meeting Professionals International – Arizona Sunbelt ChapterandHospitality Sales & Marketing Association International – Arizona Chapter \nMPI/HSMAI 12th Annual“HospitaliTee” Golf and Networking Event \nMonday\, May 22\, 2023 • 10:00 a.m. Shotgun Start \nTITLE “ACE” SPONSORHOST SPONSOR \n \n \n3800 E. Sunrise Drive • Tucson\, AZ 85718 \n18 holes of Spectacular Golf * Swag Bags for Golfers * Great Raffle Prizes * Awards Luncheon and More! \nREGISTER NOW!BE A SPONSOR!DONATE A RAFFLE/AUCTION ITEM! \nPARTICIPATE IN OUR COMMUNITY OUTREACH PROJECT \nJOIN US FOR A GREAT DAY OF GOLF! \nThese leading associations – the Arizona Sunbelt Chapter of Meeting Professionals International and the Arizona Chapter of the Hospitality Sales & Marketing Association International – have joined forces for the 11th year in a row to provide members of the Arizona meeting and hospitality industry a day of great golf on an award winning course\, followed by a lunch and an awards celebration. \nThis is an event you won’t want to miss. Not up for a round of golf or don’t have four hours to play? You can still participate! Just register to join in on festivities after the tournament – lunch and awards. \nThe funds from this tournament will help to support our associations’ continuing efforts to provide quality continuing education and scholarships for those professionals currently in the meeting and hospitality industry and those who are pursuing a career in the field. Once again\, we would greatly appreciate your participation. \nFor more information on MPI Arizona Sunbelt Chapter go to: mpi-az.org. \nOn behalf of our Golf Tournament Committee and our Board of Directors\, we thank you in advance for your participation and support!!! \nThe Golf Outing includes: \n* Green fees ** Cart Fees ** Unlimited Range Balls ** Curbside Bag Service ** Fully Equipped Golf Carts with Cooler\, and Tees ** Cool Swag Bag stuffed with great goodies ** Hosted Mimosas\, Bloody Marys and Entertainment before tee-off ** BBQ “Spread” Luncheon ** Hosted Beer and Wine with Lunch (cash bar for all other) ** Entertainment During Lunch ** Two Hospitality Tents with Beer and Entertainment ** Personalized Scorecards\, Cart Signs and Rules Sheet ** Professional Tournament Scoring ** Two Full Beverage Carts on Course ** FUN “stuff” and and games provided by our sponsors at their holes ** Awards for 1st\, 2nd and 3rd place\, plus skill holes ** Hole-in-One Contest with a Chance to Win a Phat Scooter * \nAGENDA: \n9:00-10:00 a.m. …. Registration\, Practice\, Raffle Sales\, Welcome Mariachis (hosted by Twilight Productions)\, Hosted Mimosas and Bloody Marys (hosted by the Westin La Paloma)Community Outreach Collection for Sister José Women’s Center in Tucson \n10:00 a.m. … Shotgun Start \n1:00 p.m. … Golf Clinic \n3:00 p.m. … BBQ Spread\, Awards\, Raffles\, Hosted Beer and Wine (hosted by the Westin La Paloma)\, Entertainment (hosted by Big Zephyr Music and Twilight Productions) \nRESORT ACCOMMODATIONS: \nThe Westin is graciously offering qualified buyers complimentary accommodations for Sunday\, 5/21. This only applies if you are participating in the tournament as a player\, sponsor\, golf clinic or lunch. No exceptions. All other golf participants are being offered a discounted rate of $79.00 for Sunday. Reservations are being made by MPI/HSMAI. Please e-mail Joanne Winter to let her know if you want a room and for Monday. \nAccommodations are on a first-reserve basis and limited. Don’t Delay! \nSPONSORS:\n Host Sponsor:\nTitle “Ace” Sponsor:\nEagle Sponsors:\n \n\n \nBirdie Sponsors:\n \n \nHole Sponsors:\n \nHospitality Tent Sponsors:\nHole-In-One Sponsor:\nPhotography Sponsor:\n \nEntertainment Sponsor:\nSignage Sponsor:\nSwag Bag Sponsor:\n\n \nCOMMUNITY OUTREACH PROJECT  \nAs part of our golf event\, we will be collecting hygiene items for the Sister José  Women’s Center in Tucson. Support our efforts by bringing hygiene items to the golf tournament on May 22. CLICK HERE for the donation wish list. \nSister José Women’s Center is dedicated to the care of women experiencing homelessness in a welcoming and safe environment. We are more than a center; we are a community built upon the values of compassion\, dignity\, and respect in a non-institutionalized setting. For many of our guests we are home.  Visit the Sister José  website  to learn more about this wonderful organization. \nContact Donna Masiulewicz\, CMP with questions … she will let you know how you can help even if you’re not attending the event. Thank you for your support! \nABOUT OUR HOST \n This oasis is no mirage. The Westin La Paloma Resort & Spa is a AAA Four-Diamond hotel in the middle of the Sonoran Desert that was voted a Top Resort by Condé Nast Traveler readers. With staggering views of the Santa Catalina Mountains\, feel the sense of adventure with a stroll through Sabino Canyon or learn about local wildlife at one the areas many museums. This resort balances activity with leisure\, offering dynamic work spaces and five outdoor pools with cabanas\, chaise lounge chairs and shimmering waterfalls. Reserve a tee time at our Jack Nicklaus Signature Golf Course and a wellness massage at the world class La Paloma Spa & Salon. Collaborate in 92\,355 square feet of event space and refuel at AZuL Restaurant serving Latin inspired fare. After a long day\, rest in your Westin Heavenly® Bed and recharge with the in-room coffeemaker.\nTake in the sunny Tucson sunshine from a private balcony or patio and find yourself right where you’re supposed to be. At Westin\, exceptional service is our standard.\nMore information is at: https://www.marriott.com/en-us/hotels/tuswi-the-westin-la-paloma-resort-and-spa/overview/ \nJack Nicklaus Signature Golf Course \n \nLet it soar above the desert. Our Jack Nicklaus Signature Golf Course balances the beauty of Tucson with plenty of memorable greens. Features include three 9-hole resort courses – Canyon\, Ridge and Hill – a driving range\, pro shop and more.
URL:https://hsmai-az.org/event/mpi-hsmai-hospitalitee-golf-tournament/
END:VEVENT
END:VCALENDAR