BEGIN:VCALENDAR
VERSION:2.0
PRODID:-//HSMAI-AZ - ECPv6.15.20//NONSGML v1.0//EN
CALSCALE:GREGORIAN
METHOD:PUBLISH
X-ORIGINAL-URL:https://hsmai-az.org
X-WR-CALDESC:Events for HSMAI-AZ
REFRESH-INTERVAL;VALUE=DURATION:PT1H
X-Robots-Tag:noindex
X-PUBLISHED-TTL:PT1H
BEGIN:VTIMEZONE
TZID:America/Phoenix
BEGIN:STANDARD
TZOFFSETFROM:-0700
TZOFFSETTO:-0700
TZNAME:MST
DTSTART:20240101T000000
END:STANDARD
END:VTIMEZONE
BEGIN:VEVENT
DTSTART;TZID=America/Phoenix:20250611T160000
DTEND;TZID=America/Phoenix:20250611T180000
DTSTAMP:20260424T014211
CREATED:20250423T185643Z
LAST-MODIFIED:20250423T190419Z
UID:10000044-1749657600-1749664800@hsmai-az.org
SUMMARY:Visit Phoenix/HSMAI AZ Summer Member Mixer
DESCRIPTION:Wednesday\, June 11\, 2025\n4:00-6:00pm\nWalter Studios\n747 W Roosevelt St.\, Phoenix 85007\n \nYou’re invited to our Summer Member Mixer in partnership with Visit Phoenix\, hosted by Walter Studios. \nDonate a door prize: We’re accepting a limited number of prizes.\nContact Megan Tully\, (mtully@visitphoenix.com) Member Services and Event Coordinator\nby Friday\, May 30 to contribute.\nREGISTER NOW
URL:https://hsmai-az.org/event/visit-phoenix-hsmai-az-summer-member-mixer/
END:VEVENT
END:VCALENDAR