BEGIN:VCALENDAR
VERSION:2.0
PRODID:-//HSMAI-AZ - ECPv6.15.20//NONSGML v1.0//EN
CALSCALE:GREGORIAN
METHOD:PUBLISH
X-ORIGINAL-URL:https://hsmai-az.org
X-WR-CALDESC:Events for HSMAI-AZ
REFRESH-INTERVAL;VALUE=DURATION:PT1H
X-Robots-Tag:noindex
X-PUBLISHED-TTL:PT1H
BEGIN:VTIMEZONE
TZID:America/Phoenix
BEGIN:STANDARD
TZOFFSETFROM:-0700
TZOFFSETTO:-0700
TZNAME:MST
DTSTART:20240101T000000
END:STANDARD
END:VTIMEZONE
BEGIN:VEVENT
DTSTART;TZID=America/Phoenix:20251120T160000
DTEND;TZID=America/Phoenix:20251120T183000
DTSTAMP:20260423T164956
CREATED:20251024T163508Z
LAST-MODIFIED:20251118T163430Z
UID:10000050-1763654400-1763663400@hsmai-az.org
SUMMARY:HSMAI NOVEMBER PROGRAM AND MIXER
DESCRIPTION:“SOCIAL MEDIA FOR DUMMIES: An Interactive Workshop with HSMAI Arizona”\n Unlock the Secrets to Social Media Success—From Novice to Pro! \nThursday\, November 20\, 2025\n4:00-6:30pm \nHosted by \n  \nTempe Mission Palms\, A Destination by Hyatt Hotel \n60 East Fifth Street\, Tempe \nREGISTER NOW!\n  \nEvent Overview\nJoin HSMAI Arizona for an engaging and interactive session that demystifies the fast-paced world of social media. Our Social Media for Dummies workshop is thoughtfully designed to guide you through each step of the social media process\, making it approachable and fun for everyone—no prior experience required! \nWhat You’ll Learn\n\nHow to snap the perfect photo—even if you’re only using a smartphone\nEditing basics to make your images stand out\nPosting strategies for maximum engagement\nTagging essentials: when\, how\, and why\nThe ins and outs of hashtags: when to use them and when to skip them\n\nExpert Panel & Real-World Insights\n\nOur panel of seasoned industry experts will share their best practices\, real-world examples\, and insider tips. Learn what works (and what to avoid) directly from those who have built successful online presences. Participate in Q&A sessions and live demonstrations to see social media strategies in action.\n\nWho Should Attend?\n\nSocial media beginners ready to take their first steps\nMarketing professionals looking to sharpen their digital strategy\nSmall business owners and entrepreneurs eager to boost their online presence\nAnyone curious about the power of social media!\n\nWhy Attend?\n\nGain confidence in using social media platforms effectively\nWalk away with actionable tips and a step-by-step strategy\nNetwork with fellow attendees and industry leaders\nLeave ready to post like a pro!\n\nWhether you’re just starting out or looking to enhance your strategy\, this workshop will leave you inspired\, empowered\, and ready to shine online. Don’t miss out—join us and transform your social media skills! \n  \nAGENDA: \n\n4:00pm-4:30pm … Registration\, Cocktails (no-host bar)\, Networking & Raffle Sales \n4:30pm-4:45pm … President’s Welcome & Announcements \n4:45pm-5:45pm … Education Program \n5:45pm-6:15pm … Networking with Appetizers and Cocktails (no-host bar) \n6:15-6:30pm … Raffle Drawings and\, Conclusion \n\nPARKING: \nComplimentary Valet  and Self-Parking at the Hotel \n  \nREGISTER NOW!\n  \n\nCONFIRMED PANELISTS:\n(as of 11/12/25) \nIdeas Collide:\nWhen Ideas Collide\, and Brand Matters. Collaborative\, connected + customized marketing solutions from local to global brands. \nTempe Tourism:\nNon-profit organization dedicated to showcasing everything that makes Tempe a top travel destination for both leisure and business. Their goal is simple: to highlight what makes their city so special. From insider tips on local hotels and restaurants to can’t-miss entertainment and attractions\, they help you get the most (and the best!) out of their city. \n\n  \nABOUT OUR HOST VENUE: \nExperience warm desert sunshine\, rooftop poolside relaxation and thoughtful service at Tempe Mission Palms. Located in the heart of downtown Tempe—just steps from Mill Avenue and close to Tempe Town Lake and Arizona State University—our hotel is your gateway to top shopping\, dining and scenic trails with sweeping views of the Valley of the Sun. Whether you’re here for business or leisure\, enjoy the perfect blend of comfort\, convenience and Southwestern charm. More information is at: https://www.hyatt.com/destination-by-hyatt/en-US/phxdt-tempe-mission-palms
URL:https://hsmai-az.org/event/hsmai-november-program-and-mixer/
LOCATION:Tempe Mission Palms\, 60 E 5th St.\, Tempe\, AZ\, 85281\, United States
END:VEVENT
END:VCALENDAR